BEGIN:VCALENDAR
VERSION:2.0
PRODID:-//ThoKuToys - ECPv6.15.11//NONSGML v1.0//EN
CALSCALE:GREGORIAN
METHOD:PUBLISH
X-ORIGINAL-URL:https://thokutoys.de
X-WR-CALDESC:Veranstaltungen für ThoKuToys
REFRESH-INTERVAL;VALUE=DURATION:PT1H
X-Robots-Tag:noindex
X-PUBLISHED-TTL:PT1H
BEGIN:VTIMEZONE
TZID:Europe/Berlin
BEGIN:DAYLIGHT
TZOFFSETFROM:+0100
TZOFFSETTO:+0200
TZNAME:CEST
DTSTART:20220327T010000
END:DAYLIGHT
BEGIN:STANDARD
TZOFFSETFROM:+0200
TZOFFSETTO:+0100
TZNAME:CET
DTSTART:20221030T010000
END:STANDARD
BEGIN:DAYLIGHT
TZOFFSETFROM:+0100
TZOFFSETTO:+0200
TZNAME:CEST
DTSTART:20230326T010000
END:DAYLIGHT
BEGIN:STANDARD
TZOFFSETFROM:+0200
TZOFFSETTO:+0100
TZNAME:CET
DTSTART:20231029T010000
END:STANDARD
BEGIN:DAYLIGHT
TZOFFSETFROM:+0100
TZOFFSETTO:+0200
TZNAME:CEST
DTSTART:20240331T010000
END:DAYLIGHT
BEGIN:STANDARD
TZOFFSETFROM:+0200
TZOFFSETTO:+0100
TZNAME:CET
DTSTART:20241027T010000
END:STANDARD
END:VTIMEZONE
BEGIN:VEVENT
DTSTART;TZID=Europe/Berlin:20230407T090000
DTEND;TZID=Europe/Berlin:20230407T180000
DTSTAMP:20260421T015015
CREATED:20230119T142114Z
LAST-MODIFIED:20230119T151110Z
UID:10714-1680858000-1680890400@thokutoys.de
SUMMARY:Blumenjahrmark Groningen
DESCRIPTION:Wir sind beim Blumenjahrmark Groningen mit einem Stand vertreten.
URL:https://thokutoys.de/markt/blumenjahrmark-groningen/
END:VEVENT
BEGIN:VEVENT
DTSTART;TZID=Europe/Berlin:20230416T100000
DTEND;TZID=Europe/Berlin:20230416T170000
DTSTAMP:20260421T015015
CREATED:20230206T103124Z
LAST-MODIFIED:20230206T103124Z
UID:10822-1681639200-1681664400@thokutoys.de
SUMMARY:Bauernmarkt Bremerhaven
DESCRIPTION:Besuchen Sie uns auf dem Bauernmarkt Bremerhaven. Wir freuen uns auf euch!
URL:https://thokutoys.de/markt/bauernmarkt-bremerhaven/
END:VEVENT
BEGIN:VEVENT
DTSTART;TZID=Europe/Berlin:20230423T110000
DTEND;TZID=Europe/Berlin:20230423T180000
DTSTAMP:20260421T015015
CREATED:20230206T105122Z
LAST-MODIFIED:20230206T105838Z
UID:10828-1682247600-1682272800@thokutoys.de
SUMMARY:Frühlingsfest Oyten
DESCRIPTION:Kommt uns auf dem Frühlingsfest in Oyten besuchen. Die Vereinigung der Selbständigen e.V. Oyten biete wieder ein buntes Rahmenprogramm für Jung und Alt an. Der verkaufsoffene Sonntag bietet zusätzlich die Gelegenheit in Oyten bummeln zu gehen.
URL:https://thokutoys.de/markt/fruehlingsfest-oyten/
END:VEVENT
END:VCALENDAR