BEGIN:VCALENDAR
VERSION:2.0
PRODID:-//ThoKuToys - ECPv6.15.11//NONSGML v1.0//EN
CALSCALE:GREGORIAN
METHOD:PUBLISH
X-ORIGINAL-URL:https://thokutoys.de
X-WR-CALDESC:Veranstaltungen für ThoKuToys
REFRESH-INTERVAL;VALUE=DURATION:PT1H
X-Robots-Tag:noindex
X-PUBLISHED-TTL:PT1H
BEGIN:VTIMEZONE
TZID:Europe/Berlin
BEGIN:DAYLIGHT
TZOFFSETFROM:+0100
TZOFFSETTO:+0200
TZNAME:CEST
DTSTART:20240331T010000
END:DAYLIGHT
BEGIN:STANDARD
TZOFFSETFROM:+0200
TZOFFSETTO:+0100
TZNAME:CET
DTSTART:20241027T010000
END:STANDARD
BEGIN:DAYLIGHT
TZOFFSETFROM:+0100
TZOFFSETTO:+0200
TZNAME:CEST
DTSTART:20250330T010000
END:DAYLIGHT
BEGIN:STANDARD
TZOFFSETFROM:+0200
TZOFFSETTO:+0100
TZNAME:CET
DTSTART:20251026T010000
END:STANDARD
BEGIN:DAYLIGHT
TZOFFSETFROM:+0100
TZOFFSETTO:+0200
TZNAME:CEST
DTSTART:20260329T010000
END:DAYLIGHT
BEGIN:STANDARD
TZOFFSETFROM:+0200
TZOFFSETTO:+0100
TZNAME:CET
DTSTART:20261025T010000
END:STANDARD
END:VTIMEZONE
BEGIN:VEVENT
DTSTART;TZID=Europe/Berlin:20250501T110000
DTEND;TZID=Europe/Berlin:20250501T170000
DTSTAMP:20260424T070739
CREATED:20250421T150750Z
LAST-MODIFIED:20250421T150750Z
UID:11872-1746097200-1746118800@thokutoys.de
SUMMARY:Mai Markt
DESCRIPTION:Mai Spektakel! Mit traditionellem Oldtimer-Treffen\, großer Schlemmermeile unddem traditionellen Flohmarkt auf unserer Festwiese. Beginn ist um 11:00 Uhr mitdem Maibock-Anstich am Hünzinger Biergarten. Genießen Sie einen abwechslungsreichenTag inklusive Kinderprogramm für einen perfekten Start in den Wonnemonat. \n\n\n\nRinghotel ForellenhofHünzingen 329664 Walsrode
URL:https://thokutoys.de/markt/mai-markt/
END:VEVENT
END:VCALENDAR