BEGIN:VCALENDAR
VERSION:2.0
PRODID:-//ThoKuToys - ECPv6.15.11//NONSGML v1.0//EN
CALSCALE:GREGORIAN
METHOD:PUBLISH
X-WR-CALNAME:ThoKuToys
X-ORIGINAL-URL:https://thokutoys.de
X-WR-CALDESC:Veranstaltungen für ThoKuToys
REFRESH-INTERVAL;VALUE=DURATION:PT1H
X-Robots-Tag:noindex
X-PUBLISHED-TTL:PT1H
BEGIN:VTIMEZONE
TZID:Europe/Berlin
BEGIN:DAYLIGHT
TZOFFSETFROM:+0100
TZOFFSETTO:+0200
TZNAME:CEST
DTSTART:20240331T010000
END:DAYLIGHT
BEGIN:STANDARD
TZOFFSETFROM:+0200
TZOFFSETTO:+0100
TZNAME:CET
DTSTART:20241027T010000
END:STANDARD
BEGIN:DAYLIGHT
TZOFFSETFROM:+0100
TZOFFSETTO:+0200
TZNAME:CEST
DTSTART:20250330T010000
END:DAYLIGHT
BEGIN:STANDARD
TZOFFSETFROM:+0200
TZOFFSETTO:+0100
TZNAME:CET
DTSTART:20251026T010000
END:STANDARD
BEGIN:DAYLIGHT
TZOFFSETFROM:+0100
TZOFFSETTO:+0200
TZNAME:CEST
DTSTART:20260329T010000
END:DAYLIGHT
BEGIN:STANDARD
TZOFFSETFROM:+0200
TZOFFSETTO:+0100
TZNAME:CET
DTSTART:20261025T010000
END:STANDARD
END:VTIMEZONE
BEGIN:VEVENT
DTSTART;TZID=Europe/Berlin:20250418T090000
DTEND;TZID=Europe/Berlin:20250418T170000
DTSTAMP:20260424T014604
CREATED:20251123T145510Z
LAST-MODIFIED:20251123T145510Z
UID:11847-1744966800-1744995600@thokutoys.de
SUMMARY:Blumenjahrmark Groningen
DESCRIPTION:Am 3 April 2026 findet wieder der jährliche Blumenmarkt in der Innenstadt von Groningen statt. \n\n\n\nDer ‘Blümchenmarkt’ ist der größte Blumen- und Pflanzenmarkt in den ganzen nördlichen Niederlanden. Die Händler bieten ihre Ware an über hundert Marktstände an. \n\n\n\nFrische Schnittblumen\, große und kleine Zimmerpflanzen\, Blumenzwiebel und Saatgut\, Gartenpflanzen\, Handwerkzeuge und Zubehör – alles Mögliche ist vorhanden. \n\n\n\nJedes Jahr besuchen Zehntausende Menschen diesen besonderen Markt. Die Marktstände und Aktivitäten finden Sie in der Oude Ebbingestraat\, Grote Markt\, Nieuwe Markt\, Vismarkt\, A-Kerkhof und Guldenstraat. In der ganzen Stadt spürt man den Geruch und die Farben des Frühlings!
URL:https://thokutoys.de/markt/blumenjahrmark-groningen-2/
END:VEVENT
END:VCALENDAR